BEGIN:VCALENDAR
VERSION:2.0
PRODID:-//La Maison Arc-en-Ciel de Liège - ECPv6.15.16//NONSGML v1.0//EN
CALSCALE:GREGORIAN
METHOD:PUBLISH
X-ORIGINAL-URL:https://www.macliege.be
X-WR-CALDESC:Évènements pour La Maison Arc-en-Ciel de Liège
REFRESH-INTERVAL;VALUE=DURATION:PT1H
X-Robots-Tag:noindex
X-PUBLISHED-TTL:PT1H
BEGIN:VTIMEZONE
TZID:Europe/Brussels
BEGIN:DAYLIGHT
TZOFFSETFROM:+0100
TZOFFSETTO:+0200
TZNAME:CEST
DTSTART:20240331T010000
END:DAYLIGHT
BEGIN:STANDARD
TZOFFSETFROM:+0200
TZOFFSETTO:+0100
TZNAME:CET
DTSTART:20241027T010000
END:STANDARD
BEGIN:DAYLIGHT
TZOFFSETFROM:+0100
TZOFFSETTO:+0200
TZNAME:CEST
DTSTART:20250330T010000
END:DAYLIGHT
BEGIN:STANDARD
TZOFFSETFROM:+0200
TZOFFSETTO:+0100
TZNAME:CET
DTSTART:20251026T010000
END:STANDARD
BEGIN:DAYLIGHT
TZOFFSETFROM:+0100
TZOFFSETTO:+0200
TZNAME:CEST
DTSTART:20260329T010000
END:DAYLIGHT
BEGIN:STANDARD
TZOFFSETFROM:+0200
TZOFFSETTO:+0100
TZNAME:CET
DTSTART:20261025T010000
END:STANDARD
END:VTIMEZONE
BEGIN:VEVENT
DTSTART;TZID=Europe/Brussels:20251127T190000
DTEND;TZID=Europe/Brussels:20251127T220000
DTSTAMP:20260421T154257
CREATED:20251024T075124Z
LAST-MODIFIED:20251024T081401Z
UID:10001024-1764270000-1764280800@www.macliege.be
SUMMARY:Session d'écoute · Non-binaires - SMAC - Embrassez la littérature !
DESCRIPTION:Flo Delval\, activiste\, évolue au sein de la communauté non-binaire bruxelloise. Ael est allé·e en Wallonie et à Bruxelles enregistrer des témoignages afin de créer des représentations plurielles et constituer une archive inédite. Non-Binaires est le premier podcast francophone entièrement consacré aux personnes qui vivent en dehors des normes de genres imposées. Flo vous en offrira un aperçu lors d’une session d’écoute exclusive le 27 novembre prochain.\n\nEntrée libre. Le podcast Non-binaires est à découvrir en intégralité sur acast.com/non-binaires.
URL:https://www.macliege.be/event/session-decoute-%c2%b7-non-binaires-smac-embrassez-la-litterature/
LOCATION:Maison Arc-en-Ciel de Liège\, Rue Hors-Château 7\, Liège\, 4000\, Belgium
CATEGORIES:Littérature
ATTACH;FMTTYPE=image/jpeg:https://www.macliege.be/wp-content/uploads/2025/10/ab6765630000ba8ae93d98f634e0a2a15fdba6d1.jpg
ORGANIZER;CN="Maison Arc-en-Ciel de Li%C3%A8ge":MAILTO:courrier@macliege.be
END:VEVENT
BEGIN:VEVENT
DTSTART;TZID=Europe/Brussels:20251128T190000
DTEND;TZID=Europe/Brussels:20251128T220000
DTSTAMP:20260421T154257
CREATED:20251024T075842Z
LAST-MODIFIED:20251024T081858Z
UID:10001025-1764356400-1764367200@www.macliege.be
SUMMARY:Let's have a kinky night ! - SMAC - Embrassez la littérature !
DESCRIPTION:En collaboration avec la librairie Livre aux Trésors.\n\nVendredi\, tout est permis à la Maison Arc-en-Ciel de Liège ! Le 28 novembre prochain\, rejoignez-nous dès 19h00 pour explorer à nos côtés le désir et la sexualité\, sous trois facettes différentes. Les auteurs Toàn Daubin et Adrien le Bot nous parleront cruising et rencontres d’après minuit\, avant qu’une lecture Unique en son Genre ne vienne faire monter la température d’un cran. It’s gonna be hot !\n\nEntrée libre.
URL:https://www.macliege.be/event/session-decoute-%c2%b7-non-binaires-smac-embrassez-la-litterature-2/
LOCATION:Maison Arc-en-Ciel de Liège\, Rue Hors-Château 7\, Liège\, 4000\, Belgium
CATEGORIES:Littérature
ATTACH;FMTTYPE=image/jpeg:https://www.macliege.be/wp-content/uploads/2025/10/TEA-DANCE13.jpg
ORGANIZER;CN="Maison Arc-en-Ciel de Li%C3%A8ge":MAILTO:courrier@macliege.be
END:VEVENT
BEGIN:VEVENT
DTSTART;TZID=Europe/Brussels:20251129T200000
DTEND;TZID=Europe/Brussels:20251129T230000
DTSTAMP:20260421T154257
CREATED:20251024T080622Z
LAST-MODIFIED:20251024T081307Z
UID:10001026-1764446400-1764457200@www.macliege.be
SUMMARY:SMAC BOUM BOUM ! - SMAC - Embrassez la littérature !
DESCRIPTION:Pour clôturer en beauté notre semaine littéraire\, la SMAC troque ses livres contre des platines et vous invite à une soirée où rythme et convivialité se rencontrent. Venez faire vibrer avec nous les murs de la Maison Arc-en-Ciel de Liège.\n\nEntrée libre.
URL:https://www.macliege.be/event/session-decoute-%c2%b7-non-binaires-smac-embrassez-la-litterature-2-2/
LOCATION:Maison Arc-en-Ciel de Liège\, Rue Hors-Château 7\, Liège\, 4000\, Belgium
CATEGORIES:Littérature
ATTACH;FMTTYPE=image/jpeg:https://www.macliege.be/wp-content/uploads/2025/10/TEA-DANCE14.jpg
ORGANIZER;CN="Maison Arc-en-Ciel de Li%C3%A8ge":MAILTO:courrier@macliege.be
END:VEVENT
END:VCALENDAR